BEGIN:VCALENDAR
VERSION:2.0
PRODID:-//Hackney Send - ECPv6.15.16//NONSGML v1.0//EN
CALSCALE:GREGORIAN
METHOD:PUBLISH
X-WR-CALNAME:Hackney Send
X-ORIGINAL-URL:https://hspcf.org
X-WR-CALDESC:Events for Hackney Send
REFRESH-INTERVAL;VALUE=DURATION:PT1H
X-Robots-Tag:noindex
X-PUBLISHED-TTL:PT1H
BEGIN:VTIMEZONE
TZID:Europe/London
BEGIN:DAYLIGHT
TZOFFSETFROM:+0000
TZOFFSETTO:+0100
TZNAME:BST
DTSTART:20230326T010000
END:DAYLIGHT
BEGIN:STANDARD
TZOFFSETFROM:+0100
TZOFFSETTO:+0000
TZNAME:GMT
DTSTART:20231029T010000
END:STANDARD
BEGIN:DAYLIGHT
TZOFFSETFROM:+0000
TZOFFSETTO:+0100
TZNAME:BST
DTSTART:20240331T010000
END:DAYLIGHT
BEGIN:STANDARD
TZOFFSETFROM:+0100
TZOFFSETTO:+0000
TZNAME:GMT
DTSTART:20241027T010000
END:STANDARD
BEGIN:DAYLIGHT
TZOFFSETFROM:+0000
TZOFFSETTO:+0100
TZNAME:BST
DTSTART:20250330T010000
END:DAYLIGHT
BEGIN:STANDARD
TZOFFSETFROM:+0100
TZOFFSETTO:+0000
TZNAME:GMT
DTSTART:20251026T010000
END:STANDARD
BEGIN:DAYLIGHT
TZOFFSETFROM:+0000
TZOFFSETTO:+0100
TZNAME:BST
DTSTART:20260329T010000
END:DAYLIGHT
BEGIN:STANDARD
TZOFFSETFROM:+0100
TZOFFSETTO:+0000
TZNAME:GMT
DTSTART:20261025T010000
END:STANDARD
END:VTIMEZONE
BEGIN:VEVENT
DTSTART;TZID=Europe/London:20251217T100000
DTEND;TZID=Europe/London:20251217T120000
DTSTAMP:20260425T115232
CREATED:20251125T143819Z
LAST-MODIFIED:20251125T143819Z
UID:14621-1765965600-1765972800@hspcf.org
SUMMARY:SEND Parent and Carer Coffee Morning
DESCRIPTION:Join us for a friendly coffee morning with Peabody in partnership with Hackney SEND Parent Carer Forum.\nWe’ll be joined by Richard Allen\, who will be talking about the Supported Internship Programme – Post-16 Pathway\, sharing what’s available for young people with SEND. You’ll also have the opportunity to ask questions and get useful information to help plan the next steps for your young person..\n\n💜 All SEND parents and carers in the community are warmly welcome💜\n🎉 As it’s the festive season\, we’ll have a little celebration!🎉\n🍰 Free tea and coffee. Bring along your favourite food or snacks and let’s celebrate the positive highlights of this year together.\n☕ Come along for a relaxed\, friendly space to connect\, chat and help shape activities for our families.\n\nWednesday 17th December\, 10:00-12:00 \nPembury Community Centre\nAtkins Square\nDalston Lane E8 1FA \nThis free coffee morning is open to all SEND families across Hackney.
URL:https://hspcf.org/event/send-parent-and-carer-coffee-morning-3/
LOCATION:Pembury Community Centre\, Atkins Square\, Dalston Lane\, London\, London\, E8 1FA\, United Kingdom
CATEGORIES:Coffee Morning,Partner Event
ATTACH;FMTTYPE=image/png:https://hspcf.org/wp-content/uploads/2025/11/HSPCF_coffeemorning_171225.png
END:VEVENT
BEGIN:VEVENT
DTSTART;TZID=Europe/London:20251203T100000
DTEND;TZID=Europe/London:20251203T120000
DTSTAMP:20260425T115232
CREATED:20251119T145719Z
LAST-MODIFIED:20251119T145719Z
UID:14616-1764756000-1764763200@hspcf.org
SUMMARY:SEND Parent and Carer Coffee Morning
DESCRIPTION:Join us for a friendly coffee morning with Peabody in partnership with Hackney SEND Parent Carer Forum.\nWe’ll be joined by Art Burst\, who will talk about their creative programmes and ask you how to make their sessions even more inclusive for children and young people with SEND.\n\n💜All SEND parents and carers in the community are warmly welcome💜\n🍰☕ Free tea\, coffee and cake. You’re very welcome to bring along your favourite cake to share with the group\nCome along for a relaxed\, friendly space to connect\, chat and help shape activities for our families.\n\nWednesday 3rd December\, 10:00-12:00 \nPembury Community Centre\nAtkins Square\nDalston Lane E8 1FA \nThis free coffee morning is open to all SEND families across Hackney.
URL:https://hspcf.org/event/send-parent-and-carer-coffee-morning-2/
LOCATION:Pembury Community Centre\, Atkins Square\, Dalston Lane\, London\, London\, E8 1FA\, United Kingdom
CATEGORIES:Coffee Morning,Partner Event
ATTACH;FMTTYPE=image/png:https://hspcf.org/wp-content/uploads/2025/11/HSPCF_coffeemorning_poster_031225_v1-scaled.png
END:VEVENT
BEGIN:VEVENT
DTSTART;TZID=Europe/London:20251124T100000
DTEND;TZID=Europe/London:20251124T113000
DTSTAMP:20260425T115232
CREATED:20251113T164434Z
LAST-MODIFIED:20251113T164434Z
UID:14611-1763978400-1763983800@hspcf.org
SUMMARY:HSPCF x Shelter: Housing Options for Children with Additional Needs
DESCRIPTION:Free in-person training \nEvent details \n\nMonday 24th of November\n10:00-11:30\nMarie Lloyd Centre\, 329 Queensbridge Road E8 3LA\nBooking is essential\n\nWould you like to increase your knowledge and understanding of SEND housing options in Hackney? \nRegister now for a free\, in-person training session\, hosted by the Hackney SEND Parent Carer Forum and delivered by the expert team from Shelter. \n\nFind out how the system works and what support families can expect.\nIncrease your knowledge and understanding of housing options in Hackney.\nShare your experience of the common barriers SEND families face in housing processes.\n\nThis free in-person training session is open to parent/carers of children with SEND in Hackney \nBooking is essential as space is limited. \nhttps://www.eventbrite.co.uk/e/hspcf-x-shelter-housing-options-for-children-with-additional-needs-tickets-1968708927398
URL:https://hspcf.org/event/hspcf-x-shelter-housing-options-for-children-with-additional-needs/
LOCATION:Marie Lloyd Centre\, 329 Queensbridge Road\, London\, E8 3LA\, United Kingdom
CATEGORIES:Partner Event,Training
ATTACH;FMTTYPE=image/png:https://hspcf.org/wp-content/uploads/2025/11/HSPCF_Shelter_training_241125.png
END:VEVENT
BEGIN:VEVENT
DTSTART;TZID=Europe/London:20250924T100000
DTEND;TZID=Europe/London:20250924T120000
DTSTAMP:20260425T115232
CREATED:20250918T130659Z
LAST-MODIFIED:20250918T130659Z
UID:14602-1758708000-1758715200@hspcf.org
SUMMARY:SEND Parent and Carer Coffee Morning
DESCRIPTION:SEND Parent and Carer Coffee Morning \nJoin us for a friendly coffee morning with Peabody in partnership with Hackney SEND Parent Carer Forum. \nThis free event is open to all SEND families across Hackney. It’s a welcoming space where you can: \n\n\nMeet other parents and carers \n\n\nShare experiences and support each other \n\n\nTake a short break from your caring role \n\n\nWe are delighted that Councillor Sizer\, Hackney’s SEND Champion\, has expressed her interest in attending and will be joining us. \nDetails:📅 Date: Wednesday 24th September🕙 Time: 10:00am – 12:00pm📍 Venue: Pembury Community Centre\, Atkins Square\, Dalston Lane\, E8 1FA \nRefreshments will be provided. \n👉 We look forward to seeing you there!
URL:https://hspcf.org/event/send-parent-and-carer-coffee-morning/
LOCATION:London
CATEGORIES:Coffee Morning
ATTACH;FMTTYPE=image/jpeg:https://hspcf.org/wp-content/uploads/2025/09/Hackney-SEND-Parent-Carer-Forum-Coffee-morning-with-Peabody.jpeg
ORGANIZER;CN="Hackney SEND Parent Carer Forum":MAILTO:info@hspcf.org
END:VEVENT
BEGIN:VEVENT
DTSTART;TZID=Europe/London:20250723T100000
DTEND;TZID=Europe/London:20250723T120000
DTSTAMP:20260425T115232
CREATED:20250715T085644Z
LAST-MODIFIED:20250715T085644Z
UID:14581-1753264800-1753272000@hspcf.org
SUMMARY:23rd July SEND Parent and Carer Coffee Morning
DESCRIPTION:Come along to our coffee morning with Peabody in partnership with Hackney SEND Parent Carer Forum.\nThis free coffee morning is open to all SEND families across Hackney.\nThis space is for you to come and have a talk with other parents\, come and let us know if you need support with anything or just come to have a little break from your caring role.\nRefreshments will be provided.
URL:https://hspcf.org/event/23rd-july-send-parent-and-carer-coffee-morning/
LOCATION:Pembury Community Centre\, Atkins Square\, Dalston Lane\, London\, London\, E8 1FA\, United Kingdom
CATEGORIES:Coffee Morning
ATTACH;FMTTYPE=image/png:https://hspcf.org/wp-content/uploads/2025/07/HSPCF_coffeemorning_poster_230725_v1-scaled.png
END:VEVENT
BEGIN:VEVENT
DTSTART;TZID=Europe/London:20250718T100000
DTEND;TZID=Europe/London:20250718T120000
DTSTAMP:20260425T115232
CREATED:20250704T171747Z
LAST-MODIFIED:20250704T171904Z
UID:14575-1752832800-1752840000@hspcf.org
SUMMARY:Website focus group: Hackney's 0-25 SEND Local Offer
DESCRIPTION:Do you want to find out a bit more about Hackney’s 0-25 SEND Local Offer website?\nhttps://www.hackneylocaloffer.co.uk/ \nHave you got ideas about how we can make the website more empowering and useful for parents and carers like you?\n\nCome to a focus group on 18th July from 10am – 12pm at The Tomlinson Centre\, E8 3ND\nAt this session you can:\n\nFind out more about how information is developed for the website and who does this?\nHelp us decide what services and opportunities to include.\nTry some searching activities so we can see what works and what needs to improve\nTell us what you think\nHelp identify actions to be worked on over the Summer that may help people using the website.\n\nPlaces are limited so please get in touch with Ella as soon as possible ella.ritchie@hackney.gov.uk\nPriority will be given to parents and carers not already involved in workstreams.
URL:https://hspcf.org/event/website-workshop-hackneys-0-25-send-local-offer/
LOCATION:Tomlinson Centre\, Tomlinson Centre\, London\, E8 3ND\, United Kingdom
CATEGORIES:Partner Event
END:VEVENT
BEGIN:VEVENT
DTSTART;TZID=Europe/London:20250709T100000
DTEND;TZID=Europe/London:20250709T120000
DTSTAMP:20260425T115232
CREATED:20250703T150530Z
LAST-MODIFIED:20250703T150530Z
UID:14558-1752055200-1752062400@hspcf.org
SUMMARY:July SEND Parent and Carer Coffee Morning
DESCRIPTION:Come along to our coffee morning with Peabody in partnership with Hackney SEND Parent Carer Forum.\nThis free coffee morning is open to all SEND families across Hackney.\nThis space is for you to come and have a talk with other parents\, come and let us know if you need support with anything or just come to have a little break from your caring role.\nRefreshments will be provided.
URL:https://hspcf.org/event/july-send-parent-and-carer-coffee-morning/
LOCATION:Pembury Community Centre\, Atkins Square\, Dalston Lane\, London\, London\, E8 1FA\, United Kingdom
CATEGORIES:Coffee Morning
ATTACH;FMTTYPE=image/png:https://hspcf.org/wp-content/uploads/2025/07/HSPCF_coffeemorning_poster_090725_v11-scaled.png
END:VEVENT
BEGIN:VEVENT
DTSTART;TZID=Europe/London:20250625T100000
DTEND;TZID=Europe/London:20250625T120000
DTSTAMP:20260425T115232
CREATED:20250619T100059Z
LAST-MODIFIED:20250619T123736Z
UID:14531-1750845600-1750852800@hspcf.org
SUMMARY:Join us for a SEND Parent and Carer Coffee Morning
DESCRIPTION:Come along to our coffee morning with Peabody in partnership with Hackney SEND Parent Carer Forum.\nThis free coffee morning is open to all SEND families across Hackney.\nThis space is for you to come and have a talk with other parents\, come and let us know if you need support with anything or just come to have a little break from your caring role.\nRefreshments will be provided.
URL:https://hspcf.org/event/join-us-for-a-send-parent-and-carer-coffee-morning/
LOCATION:In Person\, Pembury Community Centre\, Atkins Square Dalston Lane\, London\, E8 1FA
CATEGORIES:Coffee Morning
ATTACH;FMTTYPE=image/png:https://hspcf.org/wp-content/uploads/2025/06/HSPCF_coffeemorning_poster_250625_v1-scaled.png
END:VEVENT
BEGIN:VEVENT
DTSTART;TZID=Europe/London:20250605T060000
DTEND;TZID=Europe/London:20250605T190000
DTSTAMP:20260425T115232
CREATED:20250619T100412Z
LAST-MODIFIED:20250619T123629Z
UID:14538-1749103200-1749150000@hspcf.org
SUMMARY:June Webinar: Education\, Health and Care (EHC) Plans in Hackney (PCF Meeting)
DESCRIPTION:Hackney SEND Parent Carer Forum \nJune Webinar: Education\, Health and Care (EHC) Plans in Hackney \nAre you a parent or carer of a child with SEND aged 0-25 years living in Hackney? \nWould you like to know more about Education\, Health and Care (EHC) Plans? \nJoin a free informational webinar\, hosted by the Hackney SEND Parent Carer Forum. With guest speaker Richard Collins (EHC Operations Lead\, Hackney Integrated SEND Service\, Hackney Education). \n\nLearn about EHC in Hackney\nQ&A session to ask your questions\nRecording available if you cannot join live.\n\nKey Information \n📅 Date: Thursday\, 5th of June 2025\n⏰ Time: 18:00 – 19:00\n📍 Venue: Online Zoom webinar \n⏯ Recording: Available\, please register \n☑ Registration: https://us02web.zoom.us/webinar/register/WN_qMnBOsHvSdm_g69rsk5bUg \nQ&A \nThe webinar will include a Q&A session and you will have the opportunity to submit questions in real time. If you prefer to submit a question in advance\, please email your brief question to support@hspcf.org. \nDo not share personal information\, and please note that individual cases or circumstances cannot be addressed on this webinar. We will do our best to raise all questions within the scheduled webinar duration\, your input will also shape ongoing discussions and events. \nRecording \nPlease note this webinar will be recorded and this recording will be publicly available on the Hackney SEND Parent Carer Forum (HSPCF) website: https://hspcf.org/
URL:https://hspcf.org/event/june-webinar-education-health-and-care-ehc-plans-in-hackney-pcf-meeting/
LOCATION:London
CATEGORIES:Webinar
ATTACH;FMTTYPE=image/png:https://hspcf.org/wp-content/uploads/2025/05/EDUCATION-HEALTH-AND-CARE-EHC-PLANS-IN-HACKNEY-scaled.png
ORGANIZER;CN="Hackney SEND Parent Carer Forum":MAILTO:info@hspcf.org
END:VEVENT
BEGIN:VEVENT
DTSTART;TZID=Europe/London:20250604T080000
DTEND;TZID=Europe/London:20250604T170000
DTSTAMP:20260425T115232
CREATED:20250619T114801Z
LAST-MODIFIED:20250619T123554Z
UID:14540-1749024000-1749056400@hspcf.org
SUMMARY:Healthy Parent Carers Programme
DESCRIPTION:Are you a parent or carer of a child with special educational needs and disabilities (SEND) in Hackney? Are you looking to improve your health\, well-being\, and connect with a supportive community? \nJoin our FREE 6-week parent-led Healthy Parent Carers Programme and embark on a journey towards better physical and mental health alongside others who share similar experiences. \nWhy Join?\n✅ Enhance your physical and mental well-being\n✅ Build a supportive network of fellow parents and carers\n✅ Gain valuable skills and knowledge for a healthier lifestyle \nProgramme Details\nWhen: Wednesdays\, 10:00 AM – 1:00 PM (Participants are kindly encouraged to arrive by 9:45 AM to ensure a prompt start at 10:00 AM)\nDates: (2025)\nJune 4\, June 18 & June 25\nJuly 2\, July 9 & July 16\nWhere: The Marie Lloyd Centre\n329 Queensbridge Rd\, Hackney\, E8 3LA\nSpaces are limited\, so be sure to register early to secure your spot! \nPlease Note: Participants must be able to attend all six session \nAbout Hackney SEND Parent Carer Forum\nWe’re dedicated to empowering parents and carers of children with SEND in Hackney by offering opportunities for connection\, learning\, and growth. \nDon’t miss this opportunity to focus on your health and well-being while building meaningful relationships with others in the SEND community! \nHow to Register\n📍 Sign Up Today: \nScan the QR code on the poster\, or\nClick here: https://forms.office.com/e/FFFZRFqifR
URL:https://hspcf.org/event/healthy-parent-carers-programme/
LOCATION:London
CATEGORIES:Healthy Parent Carer Programme
ATTACH;FMTTYPE=image/png:https://hspcf.org/wp-content/uploads/2025/05/Healthy-Parent-Carers-Programme-June-july-Poster-scaled.png
END:VEVENT
BEGIN:VEVENT
DTSTART;TZID=Europe/London:20241202T103000
DTEND;TZID=Europe/London:20241206T123000
DTSTAMP:20260425T115232
CREATED:20241202T171939Z
LAST-MODIFIED:20241205T151526Z
UID:13835-1733135400-1733488200@hspcf.org
SUMMARY:Hackney SEND Parent Carer Forum: Advocacy
DESCRIPTION:Date: Wednesday\, 6th December 2023\nTime: 10:30 AM – 12:30 PM\nVenue: Marie Lloyd Centre\, 329 Queensbridge Road\, London E8 3LA \nJoin us at the Hackney SEND Parent Carer Forum to explore the theme of Advocacy. \n  \nGuest Speakers:\n\nJoanne Hussein: SENDIAGS service offer\nColin Finch: Advocacy with Choice in Hackney\nSarah Reeves & Anita Marsden: Hackney’s New Carers Strategy.
URL:https://hspcf.org/event/hackney-send-parent-carer-forum-advocacy/
LOCATION:Marie Lloyd Centre\, 329 Queensbridge Road\, London\, E8 3LA\, United Kingdom
CATEGORIES:PCF Meeting
ATTACH;FMTTYPE=image/jpeg:https://hspcf.org/wp-content/uploads/2024/12/PCF-6th-Dec.jpg
END:VEVENT
END:VCALENDAR